BEGIN:VCALENDAR
VERSION:2.0
PRODID:-//Northop Hall Cricket &amp; Hockey Club - ECPv6.15.20//NONSGML v1.0//EN
CALSCALE:GREGORIAN
METHOD:PUBLISH
X-WR-CALNAME:Northop Hall Cricket &amp; Hockey Club
X-ORIGINAL-URL:https://www.nhchc.co.uk
X-WR-CALDESC:Events for Northop Hall Cricket &amp; Hockey Club
REFRESH-INTERVAL;VALUE=DURATION:PT1H
X-Robots-Tag:noindex
X-PUBLISHED-TTL:PT1H
BEGIN:VTIMEZONE
TZID:Europe/London
BEGIN:DAYLIGHT
TZOFFSETFROM:+0000
TZOFFSETTO:+0100
TZNAME:BST
DTSTART:20250330T010000
END:DAYLIGHT
BEGIN:STANDARD
TZOFFSETFROM:+0100
TZOFFSETTO:+0000
TZNAME:GMT
DTSTART:20251026T010000
END:STANDARD
BEGIN:DAYLIGHT
TZOFFSETFROM:+0000
TZOFFSETTO:+0100
TZNAME:BST
DTSTART:20260329T010000
END:DAYLIGHT
BEGIN:STANDARD
TZOFFSETFROM:+0100
TZOFFSETTO:+0000
TZNAME:GMT
DTSTART:20261025T010000
END:STANDARD
BEGIN:DAYLIGHT
TZOFFSETFROM:+0000
TZOFFSETTO:+0100
TZNAME:BST
DTSTART:20270328T010000
END:DAYLIGHT
BEGIN:STANDARD
TZOFFSETFROM:+0100
TZOFFSETTO:+0000
TZNAME:GMT
DTSTART:20271031T010000
END:STANDARD
END:VTIMEZONE
BEGIN:VEVENT
DTSTART;TZID=Europe/London:20260619T190000
DTEND;TZID=Europe/London:20260619T230000
DTSTAMP:20260423T190746
CREATED:20260227T094539Z
LAST-MODIFIED:20260227T094539Z
UID:1499-1781895600-1781910000@www.nhchc.co.uk
SUMMARY:☠️ Car Treasure Hunt
DESCRIPTION:Start your engines and sharpen your wits! 🚗💨 \nOn Friday\, 19th June\, Northop Hall Cricket & Hockey Club is heading out on the open road. It’s time for our annual Car Treasure Hunt – the perfect mix of mystery\, strategy\, and a bit of friendly competition. \nWhether you’re a seasoned navigator or just in it for the scenic drive\, grab your team and get ready to crack the clues. \nThe Plan:\n📍 The Start: Head to the Club to collect your clue pack.\n🗺️ The Route: Follow the cryptic directions through the local lanes. You’ll need a sharp eye and some clever teamwork to spot the answers hidden along the way!\n🏁 The Finish: We’ll all head back to the Clubhouse to hand in the sheets\, compare notes (and wrong turns!)\, and see who takes home the winner’s trophy. \nFood & Drink:\nAfter you’ve successfully navigated the route\, the bar will be open and we’ll have refreshments available at the finish line while the scores are tallied. It’s the perfect way to kick off your Friday night. \nHow to Enter: \n\nGather your team (one car per team = £10 entry).\nDon’t forget a pen and a navigator who knows their left from their right!\n\nWill you find the treasure\, or will you end up “scouting” the next county over? There’s only one way to find out!
URL:https://www.nhchc.co.uk/event/%e2%98%a0%ef%b8%8f-car-treasure-hunt/
LOCATION:Northop Hall Cricket & Hockey Club\, Smithy Lane\, Northop Hall\, Flintshire\, CH7 6DE\, United Kingdom
CATEGORIES:Social
ORGANIZER;CN="Northop Hall Cricket & Hockey Club":MAILTO:info@nhchc.co.uk
END:VEVENT
END:VCALENDAR