BEGIN:VCALENDAR
VERSION:2.0
PRODID:-//Northop Hall Cricket &amp; Hockey Club - ECPv6.15.20//NONSGML v1.0//EN
CALSCALE:GREGORIAN
METHOD:PUBLISH
X-ORIGINAL-URL:https://www.nhchc.co.uk
X-WR-CALDESC:Events for Northop Hall Cricket &amp; Hockey Club
REFRESH-INTERVAL;VALUE=DURATION:PT1H
X-Robots-Tag:noindex
X-PUBLISHED-TTL:PT1H
BEGIN:VTIMEZONE
TZID:Europe/London
BEGIN:DAYLIGHT
TZOFFSETFROM:+0000
TZOFFSETTO:+0100
TZNAME:BST
DTSTART:20250330T010000
END:DAYLIGHT
BEGIN:STANDARD
TZOFFSETFROM:+0100
TZOFFSETTO:+0000
TZNAME:GMT
DTSTART:20251026T010000
END:STANDARD
BEGIN:DAYLIGHT
TZOFFSETFROM:+0000
TZOFFSETTO:+0100
TZNAME:BST
DTSTART:20260329T010000
END:DAYLIGHT
BEGIN:STANDARD
TZOFFSETFROM:+0100
TZOFFSETTO:+0000
TZNAME:GMT
DTSTART:20261025T010000
END:STANDARD
BEGIN:DAYLIGHT
TZOFFSETFROM:+0000
TZOFFSETTO:+0100
TZNAME:BST
DTSTART:20270328T010000
END:DAYLIGHT
BEGIN:STANDARD
TZOFFSETFROM:+0100
TZOFFSETTO:+0000
TZNAME:GMT
DTSTART:20271031T010000
END:STANDARD
END:VTIMEZONE
BEGIN:VEVENT
DTSTART;TZID=Europe/London:20260423T190000
DTEND;TZID=Europe/London:20260423T220000
DTSTAMP:20260423T124031
CREATED:20260227T095832Z
LAST-MODIFIED:20260227T095832Z
UID:1515-1776970800-1776981600@www.nhchc.co.uk
SUMMARY:🎱 Bingo
DESCRIPTION:Get ready for a full house every single week at Northop Hall Cricket & Hockey Club. Every Thursday night\, we’re hosting our weekly Bingo Night – the perfect mid-week escape with great prizes and even better company. \nWhether you’re a seasoned pro or just in it for the “Two Little Ducks\,” everyone is welcome. Grab your lucky charms and settle in for an evening of tension\, cheers\, and hopefully\, a big win! \nThe Details:\n🕗 Eyes Down at 7:00pm | Make sure to arrive early to grab your books and get your spot.\n📍 The Venue: Relax in the comfort of our Clubhouse. \nRefreshments:\nTo keep you focused on those numbers\, our fully stocked bar will be open throughout the evening\, serving all your favourite draught lagers\, local ales\, and spirits. \nIt’s the best way to spend a Thursday night in the village. Will it be your lucky night? There’s only one way to find out!
URL:https://www.nhchc.co.uk/event/bingo-23-april/
LOCATION:Northop Hall Cricket & Hockey Club\, Smithy Lane\, Northop Hall\, Flintshire\, CH7 6DE\, United Kingdom
CATEGORIES:Social
ORGANIZER;CN="Northop Hall Cricket & Hockey Club":MAILTO:info@nhchc.co.uk
END:VEVENT
BEGIN:VEVENT
DTSTART;TZID=Europe/London:20260429T183000
DTEND;TZID=Europe/London:20260429T213000
DTSTAMP:20260423T124031
CREATED:20260123T150203Z
LAST-MODIFIED:20260124T012139Z
UID:1399-1777487400-1777498200@www.nhchc.co.uk
SUMMARY:🗣️ Celtic Community Network: The Big Spring Social
DESCRIPTION:Join the Celtic Community Network for the Big Spring Social\, it’s open to all local businesses so join us for an informal networking evening \nJoin us for our Big Spring Social – an evening of relaxed networking hosted by the Celtic Community Network! \nWhether you’re a regular attendee or brand new to the group\, this is a fantastic opportunity to meet local business owners\, make new connections\, and catch up with familiar faces – all in a welcoming\, informal setting. \nThere’s no pitch\, no pressure – just great conversation\, supportive local business spirit\, and a little summer cheer. \nYour ticket includes a drink on arrival and a delicious buffet! \nOpen to all local businesses – whatever your size\, sector\, or stage of growth. Just bring your smile\, your business cards (if you have them)\, and enjoy an evening of connection and community.
URL:https://www.nhchc.co.uk/event/celtic-community-network-the-big-spring-social/
LOCATION:Northop Hall Cricket & Hockey Club\, Smithy Lane\, Northop Hall\, Flintshire\, CH7 6DE\, United Kingdom
CATEGORIES:Social
END:VEVENT
BEGIN:VEVENT
DTSTART;TZID=Europe/London:20260430T190000
DTEND;TZID=Europe/London:20260430T220000
DTSTAMP:20260423T124031
CREATED:20260227T095923Z
LAST-MODIFIED:20260227T095923Z
UID:1517-1777575600-1777586400@www.nhchc.co.uk
SUMMARY:🎱 Bingo
DESCRIPTION:Get ready for a full house every single week at Northop Hall Cricket & Hockey Club. Every Thursday night\, we’re hosting our weekly Bingo Night – the perfect mid-week escape with great prizes and even better company. \nWhether you’re a seasoned pro or just in it for the “Two Little Ducks\,” everyone is welcome. Grab your lucky charms and settle in for an evening of tension\, cheers\, and hopefully\, a big win! \nThe Details:\n🕗 Eyes Down at 7:00pm | Make sure to arrive early to grab your books and get your spot.\n📍 The Venue: Relax in the comfort of our Clubhouse. \nRefreshments:\nTo keep you focused on those numbers\, our fully stocked bar will be open throughout the evening\, serving all your favourite draught lagers\, local ales\, and spirits. \nIt’s the best way to spend a Thursday night in the village. Will it be your lucky night? There’s only one way to find out!
URL:https://www.nhchc.co.uk/event/bingo-30-april/
LOCATION:Northop Hall Cricket & Hockey Club\, Smithy Lane\, Northop Hall\, Flintshire\, CH7 6DE\, United Kingdom
CATEGORIES:Social
ORGANIZER;CN="Northop Hall Cricket & Hockey Club":MAILTO:info@nhchc.co.uk
END:VEVENT
END:VCALENDAR