BEGIN:VCALENDAR
VERSION:2.0
PRODID:-//Northop Hall Cricket &amp; Hockey Club - ECPv6.15.20//NONSGML v1.0//EN
CALSCALE:GREGORIAN
METHOD:PUBLISH
X-ORIGINAL-URL:https://www.nhchc.co.uk
X-WR-CALDESC:Events for Northop Hall Cricket &amp; Hockey Club
REFRESH-INTERVAL;VALUE=DURATION:PT1H
X-Robots-Tag:noindex
X-PUBLISHED-TTL:PT1H
BEGIN:VTIMEZONE
TZID:Europe/London
BEGIN:DAYLIGHT
TZOFFSETFROM:+0000
TZOFFSETTO:+0100
TZNAME:BST
DTSTART:20250330T010000
END:DAYLIGHT
BEGIN:STANDARD
TZOFFSETFROM:+0100
TZOFFSETTO:+0000
TZNAME:GMT
DTSTART:20251026T010000
END:STANDARD
BEGIN:DAYLIGHT
TZOFFSETFROM:+0000
TZOFFSETTO:+0100
TZNAME:BST
DTSTART:20260329T010000
END:DAYLIGHT
BEGIN:STANDARD
TZOFFSETFROM:+0100
TZOFFSETTO:+0000
TZNAME:GMT
DTSTART:20261025T010000
END:STANDARD
BEGIN:DAYLIGHT
TZOFFSETFROM:+0000
TZOFFSETTO:+0100
TZNAME:BST
DTSTART:20270328T010000
END:DAYLIGHT
BEGIN:STANDARD
TZOFFSETFROM:+0100
TZOFFSETTO:+0000
TZNAME:GMT
DTSTART:20271031T010000
END:STANDARD
END:VTIMEZONE
BEGIN:VEVENT
DTSTART;TZID=Europe/London:20260305T190000
DTEND;TZID=Europe/London:20260305T220000
DTSTAMP:20260423T142628
CREATED:20260227T095155Z
LAST-MODIFIED:20260227T095330Z
UID:1501-1772737200-1772748000@www.nhchc.co.uk
SUMMARY:🎱 Bingo
DESCRIPTION:Get ready for a full house every single week at Northop Hall Cricket & Hockey Club. Every Thursday night\, we’re hosting our weekly Bingo Night – the perfect mid-week escape with great prizes and even better company. \nWhether you’re a seasoned pro or just in it for the “Two Little Ducks\,” everyone is welcome. Grab your lucky charms and settle in for an evening of tension\, cheers\, and hopefully\, a big win! \nThe Details:\n🕗 Eyes Down at 7:00pm | Make sure to arrive early to grab your books and get your spot.\n📍 The Venue: Relax in the comfort of our Clubhouse. \nRefreshments:\nTo keep you focused on those numbers\, our fully stocked bar will be open throughout the evening\, serving all your favourite draught lagers\, local ales\, and spirits. \nIt’s the best way to spend a Thursday night in the village. Will it be your lucky night? There’s only one way to find out!
URL:https://www.nhchc.co.uk/event/bingo-5-march/
LOCATION:Northop Hall Cricket & Hockey Club\, Smithy Lane\, Northop Hall\, Flintshire\, CH7 6DE\, United Kingdom
CATEGORIES:Social
ORGANIZER;CN="Northop Hall Cricket & Hockey Club":MAILTO:info@nhchc.co.uk
END:VEVENT
BEGIN:VEVENT
DTSTART;TZID=Europe/London:20260312T190000
DTEND;TZID=Europe/London:20260312T220000
DTSTAMP:20260423T142628
CREATED:20260227T095259Z
LAST-MODIFIED:20260227T095259Z
UID:1503-1773342000-1773352800@www.nhchc.co.uk
SUMMARY:🎱 Bingo
DESCRIPTION:Get ready for a full house every single week at Northop Hall Cricket & Hockey Club. Every Thursday night\, we’re hosting our weekly Bingo Night – the perfect mid-week escape with great prizes and even better company. \nWhether you’re a seasoned pro or just in it for the “Two Little Ducks\,” everyone is welcome. Grab your lucky charms and settle in for an evening of tension\, cheers\, and hopefully\, a big win! \nThe Details:\n🕗 Eyes Down at 7:00pm | Make sure to arrive early to grab your books and get your spot.\n📍 The Venue: Relax in the comfort of our Clubhouse. \nRefreshments:\nTo keep you focused on those numbers\, our fully stocked bar will be open throughout the evening\, serving all your favourite draught lagers\, local ales\, and spirits. \nIt’s the best way to spend a Thursday night in the village. Will it be your lucky night? There’s only one way to find out!
URL:https://www.nhchc.co.uk/event/bingo-12-march/
LOCATION:Northop Hall Cricket & Hockey Club\, Smithy Lane\, Northop Hall\, Flintshire\, CH7 6DE\, United Kingdom
CATEGORIES:Social
ORGANIZER;CN="Northop Hall Cricket & Hockey Club":MAILTO:info@nhchc.co.uk
END:VEVENT
BEGIN:VEVENT
DTSTART;TZID=Europe/London:20260314T120000
DTEND;TZID=Europe/London:20260314T230000
DTSTAMP:20260423T142628
CREATED:20260227T093937Z
LAST-MODIFIED:20260227T093937Z
UID:1497-1773489600-1773529200@www.nhchc.co.uk
SUMMARY:🏉 Six Nations Saturday
DESCRIPTION:Clear your schedule\, because Saturday\, 14th March is officially a sporting marathon at Northop Hall Cricket & Hockey Club! We are back with another massive lineup of world-class Premier League football and a triple-threat of Six Nations drama. If you thought the last one was big\, wait until you see the stakes for this one. \n📅 The Lineup: \n⚽ 12:30pm | West Ham vs Manchester City We’re kicking things off in East London. Can the Hammers pull off a massive upset\, or will the City machine keep rolling toward the title? \n🏉 2:10pm | Ireland vs Scotland The Scots head to Dublin for what’s always a high-octane\, physical encounter. Expect flair\, fire\, and a massive atmosphere. \n🏉 4:40pm | Wales vs Italy The Dragon returns! Grab a pint and get behind the boys as Wales looks to dominate on home soil against a dangerous Italian side. \n🏉 8:10pm | France vs England The “Le Crunch” finale. One of rugby’s most iconic rivalries takes us into the night. Does it get any better than this? \n🥧 Fuel for the Fans\nNo need to worry about the halftime hunger. We’ll have hot catering available to keep you powered up through every scrum and try. \nOur fully stocked bar will be open as always\, serving your favourite draught lagers\, local ales\, and spirits. 🍻
URL:https://www.nhchc.co.uk/event/six-nations-saturday/
LOCATION:Northop Hall Cricket & Hockey Club\, Smithy Lane\, Northop Hall\, Flintshire\, CH7 6DE\, United Kingdom
CATEGORIES:Live Sports
ORGANIZER;CN="Northop Hall Cricket & Hockey Club":MAILTO:info@nhchc.co.uk
END:VEVENT
BEGIN:VEVENT
DTSTART;TZID=Europe/London:20260319T190000
DTEND;TZID=Europe/London:20260319T220000
DTSTAMP:20260423T142628
CREATED:20260227T095416Z
LAST-MODIFIED:20260227T095416Z
UID:1505-1773946800-1773957600@www.nhchc.co.uk
SUMMARY:🎱 Bingo
DESCRIPTION:Get ready for a full house every single week at Northop Hall Cricket & Hockey Club. Every Thursday night\, we’re hosting our weekly Bingo Night – the perfect mid-week escape with great prizes and even better company. \nWhether you’re a seasoned pro or just in it for the “Two Little Ducks\,” everyone is welcome. Grab your lucky charms and settle in for an evening of tension\, cheers\, and hopefully\, a big win! \nThe Details:\n🕗 Eyes Down at 7:00pm | Make sure to arrive early to grab your books and get your spot.\n📍 The Venue: Relax in the comfort of our Clubhouse. \nRefreshments:\nTo keep you focused on those numbers\, our fully stocked bar will be open throughout the evening\, serving all your favourite draught lagers\, local ales\, and spirits. \nIt’s the best way to spend a Thursday night in the village. Will it be your lucky night? There’s only one way to find out!
URL:https://www.nhchc.co.uk/event/bingo-19-march/
LOCATION:Northop Hall Cricket & Hockey Club\, Smithy Lane\, Northop Hall\, Flintshire\, CH7 6DE\, United Kingdom
CATEGORIES:Social
ORGANIZER;CN="Northop Hall Cricket & Hockey Club":MAILTO:info@nhchc.co.uk
END:VEVENT
BEGIN:VEVENT
DTSTART;TZID=Europe/London:20260326T190000
DTEND;TZID=Europe/London:20260326T220000
DTSTAMP:20260423T142628
CREATED:20260227T095503Z
LAST-MODIFIED:20260227T095503Z
UID:1507-1774551600-1774562400@www.nhchc.co.uk
SUMMARY:🎱 Bingo
DESCRIPTION:Get ready for a full house every single week at Northop Hall Cricket & Hockey Club. Every Thursday night\, we’re hosting our weekly Bingo Night – the perfect mid-week escape with great prizes and even better company. \nWhether you’re a seasoned pro or just in it for the “Two Little Ducks\,” everyone is welcome. Grab your lucky charms and settle in for an evening of tension\, cheers\, and hopefully\, a big win! \nThe Details:\n🕗 Eyes Down at 7:00pm | Make sure to arrive early to grab your books and get your spot.\n📍 The Venue: Relax in the comfort of our Clubhouse. \nRefreshments:\nTo keep you focused on those numbers\, our fully stocked bar will be open throughout the evening\, serving all your favourite draught lagers\, local ales\, and spirits. \nIt’s the best way to spend a Thursday night in the village. Will it be your lucky night? There’s only one way to find out!
URL:https://www.nhchc.co.uk/event/bingo-26-march/
LOCATION:Northop Hall Cricket & Hockey Club\, Smithy Lane\, Northop Hall\, Flintshire\, CH7 6DE\, United Kingdom
CATEGORIES:Social
ORGANIZER;CN="Northop Hall Cricket & Hockey Club":MAILTO:info@nhchc.co.uk
END:VEVENT
END:VCALENDAR