BEGIN:VCALENDAR
VERSION:2.0
PRODID:-//Northop Hall Cricket &amp; Hockey Club - ECPv6.15.20//NONSGML v1.0//EN
CALSCALE:GREGORIAN
METHOD:PUBLISH
X-WR-CALNAME:Northop Hall Cricket &amp; Hockey Club
X-ORIGINAL-URL:https://www.nhchc.co.uk
X-WR-CALDESC:Events for Northop Hall Cricket &amp; Hockey Club
REFRESH-INTERVAL;VALUE=DURATION:PT1H
X-Robots-Tag:noindex
X-PUBLISHED-TTL:PT1H
BEGIN:VTIMEZONE
TZID:Europe/London
BEGIN:DAYLIGHT
TZOFFSETFROM:+0000
TZOFFSETTO:+0100
TZNAME:BST
DTSTART:20250330T010000
END:DAYLIGHT
BEGIN:STANDARD
TZOFFSETFROM:+0100
TZOFFSETTO:+0000
TZNAME:GMT
DTSTART:20251026T010000
END:STANDARD
BEGIN:DAYLIGHT
TZOFFSETFROM:+0000
TZOFFSETTO:+0100
TZNAME:BST
DTSTART:20260329T010000
END:DAYLIGHT
BEGIN:STANDARD
TZOFFSETFROM:+0100
TZOFFSETTO:+0000
TZNAME:GMT
DTSTART:20261025T010000
END:STANDARD
BEGIN:DAYLIGHT
TZOFFSETFROM:+0000
TZOFFSETTO:+0100
TZNAME:BST
DTSTART:20270328T010000
END:DAYLIGHT
BEGIN:STANDARD
TZOFFSETFROM:+0100
TZOFFSETTO:+0000
TZNAME:GMT
DTSTART:20271031T010000
END:STANDARD
END:VTIMEZONE
BEGIN:VEVENT
DTSTART;TZID=Europe/London:20260125T163000
DTEND;TZID=Europe/London:20260125T190000
DTSTAMP:20260424T003427
CREATED:20260123T161553Z
LAST-MODIFIED:20260124T011830Z
UID:1409-1769358600-1769367600@www.nhchc.co.uk
SUMMARY:⚽ Arsenal vs Manchester United
DESCRIPTION:Cap off an incredible weekend of football at Northop Hall Cricket & Hockey Club this Sunday! We’re bringing you one of the biggest fixtures in world football as Arsenal host Manchester United. With the Gunners fighting to maintain their lead at the top and United rejuvenated under Michael Carrick\, this is a clash you won’t want to miss. We’ll be showing the full build-up and match live on our big screen via Sky Sports. \nGather your friends\, grab a spot in the clubhouse\, and enjoy the matchday atmosphere with a wide selection of drinks available at the bar.
URL:https://www.nhchc.co.uk/event/arsenal-vs-manchester-united/
LOCATION:Northop Hall Cricket & Hockey Club\, Smithy Lane\, Northop Hall\, Flintshire\, CH7 6DE\, United Kingdom
CATEGORIES:Live Sports
ORGANIZER;CN="Northop Hall Cricket & Hockey Club":MAILTO:info@nhchc.co.uk
END:VEVENT
BEGIN:VEVENT
DTSTART;TZID=Europe/London:20260124T173000
DTEND;TZID=Europe/London:20260124T200000
DTSTAMP:20260424T003427
CREATED:20260123T161246Z
LAST-MODIFIED:20260124T011813Z
UID:1407-1769275800-1769284800@www.nhchc.co.uk
SUMMARY:⚽ Bournemouth vs Liverpool
DESCRIPTION:Join us at Northop Hall Cricket & Hockey Club\, Saturday\, January 24\, for a massive Premier League clash as Bournemouth take on Liverpool! We’ll be showing all the action live on the big screen via Sky Sports\, so you won’t miss a second of the drama from the Vitality Stadium. \nWhether you’re rooting for the Cherries to pull off an upset or cheering on the Reds as they push for the top four\, the club is the perfect place to grab a drink and enjoy the match with fellow fans.
URL:https://www.nhchc.co.uk/event/afc-bournemouth-vs-liverpool/
LOCATION:Northop Hall Cricket & Hockey Club\, Smithy Lane\, Northop Hall\, Flintshire\, CH7 6DE\, United Kingdom
CATEGORIES:Live Sports
ORGANIZER;CN="Northop Hall Cricket & Hockey Club":MAILTO:info@nhchc.co.uk
END:VEVENT
END:VCALENDAR