BEGIN:VCALENDAR
VERSION:2.0
PRODID:-//Northop Hall Cricket &amp; Hockey Club - ECPv6.15.20//NONSGML v1.0//EN
CALSCALE:GREGORIAN
METHOD:PUBLISH
X-WR-CALNAME:Northop Hall Cricket &amp; Hockey Club
X-ORIGINAL-URL:https://www.nhchc.co.uk
X-WR-CALDESC:Events for Northop Hall Cricket &amp; Hockey Club
REFRESH-INTERVAL;VALUE=DURATION:PT1H
X-Robots-Tag:noindex
X-PUBLISHED-TTL:PT1H
BEGIN:VTIMEZONE
TZID:Europe/London
BEGIN:DAYLIGHT
TZOFFSETFROM:+0000
TZOFFSETTO:+0100
TZNAME:BST
DTSTART:20250330T010000
END:DAYLIGHT
BEGIN:STANDARD
TZOFFSETFROM:+0100
TZOFFSETTO:+0000
TZNAME:GMT
DTSTART:20251026T010000
END:STANDARD
BEGIN:DAYLIGHT
TZOFFSETFROM:+0000
TZOFFSETTO:+0100
TZNAME:BST
DTSTART:20260329T010000
END:DAYLIGHT
BEGIN:STANDARD
TZOFFSETFROM:+0100
TZOFFSETTO:+0000
TZNAME:GMT
DTSTART:20261025T010000
END:STANDARD
BEGIN:DAYLIGHT
TZOFFSETFROM:+0000
TZOFFSETTO:+0100
TZNAME:BST
DTSTART:20270328T010000
END:DAYLIGHT
BEGIN:STANDARD
TZOFFSETFROM:+0100
TZOFFSETTO:+0000
TZNAME:GMT
DTSTART:20271031T010000
END:STANDARD
END:VTIMEZONE
BEGIN:VEVENT
DTSTART;TZID=Europe/London:20260405T193000
DTEND;TZID=Europe/London:20260405T210000
DTSTAMP:20260423T140339
CREATED:20260331T090230Z
LAST-MODIFIED:20260331T090230Z
UID:1528-1775417400-1775422800@www.nhchc.co.uk
SUMMARY:🃏 Games Night
DESCRIPTION:Get ready for an unbeatable atmosphere every single week at Smithy Lane. Every Sunday night\, we host our weekly Games Night – the perfect way to beat the Sunday blues with a bit of friendly competition and even better company. \nWhether you’re a trivia titan or just feeling lucky\, everyone is welcome. Dust off your thinking caps\, gather your smartest mates\, and settle in for an evening of facts\, fun\, and total bragging rights! \nThe Details:\n🕗 Starts at 7:30pm | Arrive early to get your round in and settle into your spot. \n🧠 The Pub Quiz | £2 entry per person. Teams are limited to a maximum of six per team. \n🃏 Play Your Cards Right & Raffle | Just £1 a go for those feeling extra lucky. \n📍 The Venue | Join us in the comfort of our Clubhouse at Smithy Lane. \nRefreshments:\nTo keep your brain fuelled and those answers flowing\, our fully stocked bar is open throughout the evening\, serving all your favourite draught lagers\, local ales\, and spirits. \nIt’s the best way to spend a Sunday night in the village. Will your team come out on top? There’s only one way to find out!
URL:https://www.nhchc.co.uk/event/games-night-5-april/
LOCATION:Northop Hall Cricket & Hockey Club\, Smithy Lane\, Northop Hall\, Flintshire\, CH7 6DE\, United Kingdom
CATEGORIES:Social
ORGANIZER;CN="Northop Hall Cricket & Hockey Club":MAILTO:info@nhchc.co.uk
END:VEVENT
END:VCALENDAR