BEGIN:VCALENDAR
VERSION:2.0
PRODID:-//Northop Hall Cricket &amp; Hockey Club - ECPv6.15.20//NONSGML v1.0//EN
CALSCALE:GREGORIAN
METHOD:PUBLISH
X-ORIGINAL-URL:https://www.nhchc.co.uk
X-WR-CALDESC:Events for Northop Hall Cricket &amp; Hockey Club
REFRESH-INTERVAL;VALUE=DURATION:PT1H
X-Robots-Tag:noindex
X-PUBLISHED-TTL:PT1H
BEGIN:VTIMEZONE
TZID:Europe/London
BEGIN:DAYLIGHT
TZOFFSETFROM:+0000
TZOFFSETTO:+0100
TZNAME:BST
DTSTART:20250330T010000
END:DAYLIGHT
BEGIN:STANDARD
TZOFFSETFROM:+0100
TZOFFSETTO:+0000
TZNAME:GMT
DTSTART:20251026T010000
END:STANDARD
BEGIN:DAYLIGHT
TZOFFSETFROM:+0000
TZOFFSETTO:+0100
TZNAME:BST
DTSTART:20260329T010000
END:DAYLIGHT
BEGIN:STANDARD
TZOFFSETFROM:+0100
TZOFFSETTO:+0000
TZNAME:GMT
DTSTART:20261025T010000
END:STANDARD
BEGIN:DAYLIGHT
TZOFFSETFROM:+0000
TZOFFSETTO:+0100
TZNAME:BST
DTSTART:20270328T010000
END:DAYLIGHT
BEGIN:STANDARD
TZOFFSETFROM:+0100
TZOFFSETTO:+0000
TZNAME:GMT
DTSTART:20271031T010000
END:STANDARD
END:VTIMEZONE
BEGIN:VEVENT
DTSTART;TZID=Europe/London:20260403T100000
DTEND;TZID=Europe/London:20260403T120000
DTSTAMP:20260423T141543
CREATED:20260123T144239Z
LAST-MODIFIED:20260124T012120Z
UID:1394-1775210400-1775217600@www.nhchc.co.uk
SUMMARY:🐣 Easter Egg Hunt
DESCRIPTION:Get ready for a morning of family fun at Northop Hall Cricket and Hockey Club! Join us on Friday\, 3rd April\, for our annual Easter Egg Hunt from 10:00am to12:00 pm. We’ve hidden a hoard of chocolate treats across the grounds\, waiting for your little explorers to track them down in a safe and exciting outdoor adventure. \n\n\n\nIt’s the perfect way to kick off the Easter weekend with the kids\, featuring plenty of fresh air and a fantastic community atmosphere. Once the hunt is over\, stick around to enjoy the club’s facilities and celebrate the start of the holiday season.
URL:https://www.nhchc.co.uk/event/easter-egg-hunt/
LOCATION:Northop Hall Cricket & Hockey Club\, Smithy Lane\, Northop Hall\, Flintshire\, CH7 6DE\, United Kingdom
CATEGORIES:Social
ORGANIZER;CN="Northop Hall Cricket & Hockey Club":MAILTO:info@nhchc.co.uk
END:VEVENT
END:VCALENDAR