BEGIN:VCALENDAR
VERSION:2.0
PRODID:-//Northop Hall Cricket &amp; Hockey Club - ECPv6.15.20//NONSGML v1.0//EN
CALSCALE:GREGORIAN
METHOD:PUBLISH
X-ORIGINAL-URL:https://www.nhchc.co.uk
X-WR-CALDESC:Events for Northop Hall Cricket &amp; Hockey Club
REFRESH-INTERVAL;VALUE=DURATION:PT1H
X-Robots-Tag:noindex
X-PUBLISHED-TTL:PT1H
BEGIN:VTIMEZONE
TZID:Europe/London
BEGIN:DAYLIGHT
TZOFFSETFROM:+0000
TZOFFSETTO:+0100
TZNAME:BST
DTSTART:20250330T010000
END:DAYLIGHT
BEGIN:STANDARD
TZOFFSETFROM:+0100
TZOFFSETTO:+0000
TZNAME:GMT
DTSTART:20251026T010000
END:STANDARD
BEGIN:DAYLIGHT
TZOFFSETFROM:+0000
TZOFFSETTO:+0100
TZNAME:BST
DTSTART:20260329T010000
END:DAYLIGHT
BEGIN:STANDARD
TZOFFSETFROM:+0100
TZOFFSETTO:+0000
TZNAME:GMT
DTSTART:20261025T010000
END:STANDARD
BEGIN:DAYLIGHT
TZOFFSETFROM:+0000
TZOFFSETTO:+0100
TZNAME:BST
DTSTART:20270328T010000
END:DAYLIGHT
BEGIN:STANDARD
TZOFFSETFROM:+0100
TZOFFSETTO:+0000
TZNAME:GMT
DTSTART:20271031T010000
END:STANDARD
END:VTIMEZONE
BEGIN:VEVENT
DTSTART;TZID=Europe/London:20260228T200000
DTEND;TZID=Europe/London:20260301T000000
DTSTAMP:20260423T155536
CREATED:20260123T140841Z
LAST-MODIFIED:20260124T012056Z
UID:1376-1772308800-1772323200@www.nhchc.co.uk
SUMMARY:💃 80's Disco
DESCRIPTION:Dust off your leg warmers and find your neon – we’re taking it back to the decade of decadence! Join us at Northop Hall Cricket and Hockey Club on Saturday\, 28th February\, for an ultimate 80s Disco starting at 8:00pm. We’ll be spinning all the classic floor-fillers\, from synth-pop anthems to power ballads\, ensuring the dance floor stays packed all night long. It’s time to channel your inner Madonna or Prince and enjoy a nostalgic night of retro vibes and great drinks with the best crowd in town. Whether you’re coming for the music or the fashion\, it’s set to be a “Total Eclipse of the Heart” (and the dance floor). Don’t miss out on the biggest throwback party of the year!
URL:https://www.nhchc.co.uk/event/80s-disco/
LOCATION:Northop Hall Cricket & Hockey Club\, Smithy Lane\, Northop Hall\, Flintshire\, CH7 6DE\, United Kingdom
CATEGORIES:Social
ORGANIZER;CN="Northop Hall Cricket & Hockey Club":MAILTO:info@nhchc.co.uk
END:VEVENT
END:VCALENDAR