BEGIN:VCALENDAR
VERSION:2.0
PRODID:-//Northop Hall Cricket &amp; Hockey Club - ECPv6.15.20//NONSGML v1.0//EN
CALSCALE:GREGORIAN
METHOD:PUBLISH
X-WR-CALNAME:Northop Hall Cricket &amp; Hockey Club
X-ORIGINAL-URL:https://www.nhchc.co.uk
X-WR-CALDESC:Events for Northop Hall Cricket &amp; Hockey Club
REFRESH-INTERVAL;VALUE=DURATION:PT1H
X-Robots-Tag:noindex
X-PUBLISHED-TTL:PT1H
BEGIN:VTIMEZONE
TZID:Europe/London
BEGIN:DAYLIGHT
TZOFFSETFROM:+0000
TZOFFSETTO:+0100
TZNAME:BST
DTSTART:20250330T010000
END:DAYLIGHT
BEGIN:STANDARD
TZOFFSETFROM:+0100
TZOFFSETTO:+0000
TZNAME:GMT
DTSTART:20251026T010000
END:STANDARD
BEGIN:DAYLIGHT
TZOFFSETFROM:+0000
TZOFFSETTO:+0100
TZNAME:BST
DTSTART:20260329T010000
END:DAYLIGHT
BEGIN:STANDARD
TZOFFSETFROM:+0100
TZOFFSETTO:+0000
TZNAME:GMT
DTSTART:20261025T010000
END:STANDARD
BEGIN:DAYLIGHT
TZOFFSETFROM:+0000
TZOFFSETTO:+0100
TZNAME:BST
DTSTART:20270328T010000
END:DAYLIGHT
BEGIN:STANDARD
TZOFFSETFROM:+0100
TZOFFSETTO:+0000
TZNAME:GMT
DTSTART:20271031T010000
END:STANDARD
END:VTIMEZONE
BEGIN:VEVENT
DTSTART;TZID=Europe/London:20260215T150000
DTEND;TZID=Europe/London:20260215T173000
DTSTAMP:20260423T173146
CREATED:20260126T155438Z
LAST-MODIFIED:20260126T155438Z
UID:1476-1771167600-1771176600@www.nhchc.co.uk
SUMMARY:🏉 Wales vs France
DESCRIPTION:The Six Nations excitement continues into the weekend as Wales host France at the Principality Stadium on Sunday\, 15th February 2026. Join us at Northop Hall Cricket & Hockey Club to catch every moment of this high-octane encounter\, with the live broadcast leading into the 3:10pm kick-off. \nAfter a Saturday of intense rugby\, come down to the clubhouse to see if Wales can hold their ground against the flair of Les Bleus in what is always a highlight of the tournament. Our bar will be open to keep you refreshed throughout the match\, offering premium draught lagers\, local ales\, and spirits at member-discounted prices.
URL:https://www.nhchc.co.uk/event/wales-vs-france/
LOCATION:Northop Hall Cricket & Hockey Club\, Smithy Lane\, Northop Hall\, Flintshire\, CH7 6DE\, United Kingdom
CATEGORIES:Live Sports
ORGANIZER;CN="Northop Hall Cricket & Hockey Club":MAILTO:info@nhchc.co.uk
END:VEVENT
BEGIN:VEVENT
DTSTART;TZID=Europe/London:20260215T163000
DTEND;TZID=Europe/London:20260215T190000
DTSTAMP:20260423T173146
CREATED:20260126T155846Z
LAST-MODIFIED:20260126T155846Z
UID:1478-1771173000-1771182000@www.nhchc.co.uk
SUMMARY:⚽ Arsenal vs Wigan Athletic
DESCRIPTION:The FA Cup fourth-round drama reaches its peak as Arsenal face Wigan Athletic on Sunday\, 15th February 2026. Join us at Northop Hall Cricket & Hockey Club to see if the “Latics” can pull off a legendary giant-killing or if the Gunners will march on toward Wembley. \nWe’ll be showing all the action live on the big screen\, with the build-up leading into a 4:30pm kick-off. It’s the perfect follow-up to our Six Nations coverage\, so why not make a weekend of it? Our bar will be fully open\, serving a great range of drinks with exclusive discounts for club members.
URL:https://www.nhchc.co.uk/event/arsenal-vs-wigan-athletic/
LOCATION:Northop Hall Cricket & Hockey Club\, Smithy Lane\, Northop Hall\, Flintshire\, CH7 6DE\, United Kingdom
CATEGORIES:Live Sports
ORGANIZER;CN="Northop Hall Cricket & Hockey Club":MAILTO:info@nhchc.co.uk
END:VEVENT
END:VCALENDAR