BEGIN:VCALENDAR
VERSION:2.0
PRODID:-//Northop Hall Cricket &amp; Hockey Club - ECPv6.15.20//NONSGML v1.0//EN
CALSCALE:GREGORIAN
METHOD:PUBLISH
X-ORIGINAL-URL:https://www.nhchc.co.uk
X-WR-CALDESC:Events for Northop Hall Cricket &amp; Hockey Club
REFRESH-INTERVAL;VALUE=DURATION:PT1H
X-Robots-Tag:noindex
X-PUBLISHED-TTL:PT1H
BEGIN:VTIMEZONE
TZID:Europe/London
BEGIN:DAYLIGHT
TZOFFSETFROM:+0000
TZOFFSETTO:+0100
TZNAME:BST
DTSTART:20250330T010000
END:DAYLIGHT
BEGIN:STANDARD
TZOFFSETFROM:+0100
TZOFFSETTO:+0000
TZNAME:GMT
DTSTART:20251026T010000
END:STANDARD
BEGIN:DAYLIGHT
TZOFFSETFROM:+0000
TZOFFSETTO:+0100
TZNAME:BST
DTSTART:20260329T010000
END:DAYLIGHT
BEGIN:STANDARD
TZOFFSETFROM:+0100
TZOFFSETTO:+0000
TZNAME:GMT
DTSTART:20261025T010000
END:STANDARD
BEGIN:DAYLIGHT
TZOFFSETFROM:+0000
TZOFFSETTO:+0100
TZNAME:BST
DTSTART:20270328T010000
END:DAYLIGHT
BEGIN:STANDARD
TZOFFSETFROM:+0100
TZOFFSETTO:+0000
TZNAME:GMT
DTSTART:20271031T010000
END:STANDARD
END:VTIMEZONE
BEGIN:VEVENT
DTSTART;TZID=Europe/London:20260202T200000
DTEND;TZID=Europe/London:20260202T223000
DTSTAMP:20260423T173309
CREATED:20260124T135804Z
LAST-MODIFIED:20260124T140243Z
UID:1445-1770062400-1770071400@www.nhchc.co.uk
SUMMARY:⚽ Sunderland vs Burnley
DESCRIPTION:Experience one of the most anticipated clashes of the Premier League’s Monday Night Football as Northop Hall Cricket & Hockey Club hosts a live screening of Sunderland vs Burnley. On Monday\, February 2\, 2026\, the clubhouse will be the local hub for all the top-flight action from the Stadium of Light. We’ll be showing the match live on Sky Sports\, ensuring you catch every second of this vital battle for points on our high-definition screens. \nKick-off is at 8:00pm\, providing the perfect evening escape to start your week. Whether you’re a Black Cat\, a Claret\, or just a football fan looking for a lively atmosphere\, come down early to grab a drink and settle in for the pre-match analysis. With the bar open and the game on\, there’s no better place in the village to experience the drama of the Premier League.
URL:https://www.nhchc.co.uk/event/sunderland-vs-burnley/
LOCATION:Northop Hall Cricket & Hockey Club\, Smithy Lane\, Northop Hall\, Flintshire\, CH7 6DE\, United Kingdom
CATEGORIES:Live Sports
ORGANIZER;CN="Northop Hall Cricket & Hockey Club":MAILTO:info@nhchc.co.uk
END:VEVENT
END:VCALENDAR